BEGIN:VCALENDAR
VERSION:2.0
PRODID:SchoolNow
CALSCALE:GREGORIAN
BEGIN:VEVENT
UID:08fe0086-25cf-11ea-95ec-22000a97d21c
DTSTAMP:20200508T003244Z
SUMMARY:Private Party
URL;VALUE=URI:https://www.wildernesslakecdd.org/calendar/2165677/private-pa
 rty
DTSTART:20191124T170000Z
DTEND:20191124T210000Z
END:VEVENT
END:VCALENDAR
