BEGIN:VCALENDAR
VERSION:2.0
PRODID:SchoolNow
CALSCALE:GREGORIAN
BEGIN:VEVENT
UID:08fde9e8-25cf-11ea-a137-22000a97d21c
DTSTAMP:20200508T003244Z
SUMMARY:Fall Festival
LOCATION:Activities Center & Nature Center
URL;VALUE=URI:https://www.wildernesslakecdd.org/calendar/2165676/fall-festi
 val
DTSTART:20191012T180000Z
DTEND:20191012T220000Z
ATTACH;FILENAME=Fall Festival Flyer.jpg;FMTTYPE=image/jpeg:https://drive.go
 ogle.com/a/wlpcdd.org/file/d/1C4zaGgpHUVwk_tXPdCXCERj5VzyjYgur/view?usp=dr
 ive_web
END:VEVENT
END:VCALENDAR
