BEGIN:VCALENDAR
VERSION:2.0
PRODID:SchoolNow
CALSCALE:GREGORIAN
BEGIN:VEVENT
UID:08fdd30e-25cf-11ea-88a9-22000a97d21c
DTSTAMP:20200508T003244Z
SUMMARY:ARC Meeting
LOCATION:Main Lodge
URL;VALUE=URI:https://www.wildernesslakecdd.org/calendar/2165675/arc-meetin
 g
DTSTART:20191021T223000Z
DTEND:20191021T233000Z
END:VEVENT
END:VCALENDAR
