BEGIN:VCALENDAR
VERSION:2.0
PRODID:SchoolNow
CALSCALE:GREGORIAN
BEGIN:VEVENT
UID:08fc3cec-25cf-11ea-97ed-22000a97d21c
DTSTAMP:20200508T003244Z
SUMMARY:Private Rental
URL;VALUE=URI:https://www.wildernesslakecdd.org/calendar/2165674/private-re
 ntal
DTSTART:20191020T200000Z
DTEND:20191021T010000Z
END:VEVENT
END:VCALENDAR
