BEGIN:VCALENDAR
VERSION:2.0
PRODID:SchoolNow
CALSCALE:GREGORIAN
BEGIN:VEVENT
UID:08fc2216-25cf-11ea-aa1d-22000a97d21c
DTSTAMP:20200508T003244Z
SUMMARY:Private Party
LOCATION:Nature Center
URL;VALUE=URI:https://www.wildernesslakecdd.org/calendar/2165673/private-pa
 rty
DTSTART:20191103T170000Z
DTEND:20191103T220000Z
END:VEVENT
END:VCALENDAR
