BEGIN:VCALENDAR
VERSION:2.0
PRODID:SchoolNow
CALSCALE:GREGORIAN
BEGIN:VEVENT
UID:08fc0c2c-25cf-11ea-9807-22000a97d21c
DTSTAMP:20200508T003244Z
SUMMARY:ARC Meeting
URL;VALUE=URI:https://www.wildernesslakecdd.org/calendar/2165672/arc-meetin
 g
DTSTART:20191104T233000Z
DTEND:20191105T003000Z
END:VEVENT
END:VCALENDAR
