BEGIN:VCALENDAR
VERSION:2.0
PRODID:SchoolNow
CALSCALE:GREGORIAN
BEGIN:VEVENT
UID:08fbf5de-25cf-11ea-8089-22000a97d21c
DTSTAMP:20200508T003244Z
SUMMARY:ARC Meeting
URL;VALUE=URI:https://www.wildernesslakecdd.org/calendar/2165671/arc-meetin
 g
DTSTART:20191118T233000Z
DTEND:20191119T003000Z
END:VEVENT
END:VCALENDAR
