BEGIN:VCALENDAR
VERSION:2.0
PRODID:SchoolNow
CALSCALE:GREGORIAN
BEGIN:VEVENT
UID:08fbdfa4-25cf-11ea-a15c-22000a97d21c
DTSTAMP:20200508T003244Z
SUMMARY:Private Rental
LOCATION:Nature Center
URL;VALUE=URI:https://www.wildernesslakecdd.org/calendar/2165670/private-re
 ntal
DTSTART:20191116T153000Z
DTEND:20191116T203000Z
END:VEVENT
END:VCALENDAR
