BEGIN:VCALENDAR
VERSION:2.0
PRODID:SchoolNow
CALSCALE:GREGORIAN
BEGIN:VEVENT
UID:08fbc8ca-25cf-11ea-b3d9-22000a97d21c
DTSTAMP:20200508T003244Z
SUMMARY:Chat'Hers Sharing & Caring Feast
LOCATION:Activities Center
URL;VALUE=URI:https://www.wildernesslakecdd.org/calendar/2165669/chathers-s
 haring-caring-feast
DTSTART:20191117T220000Z
DTEND:20191118T013000Z
END:VEVENT
END:VCALENDAR
