BEGIN:VCALENDAR
VERSION:2.0
PRODID:SchoolNow
CALSCALE:GREGORIAN
BEGIN:VEVENT
UID:08fbb2a4-25cf-11ea-931a-22000a97d21c
DTSTAMP:20200508T003244Z
SUMMARY:HOA Meeting Moved to December 3rd
URL;VALUE=URI:https://www.wildernesslakecdd.org/calendar/2165668/hoa-meetin
 g-moved-to-december-3rd
DTSTART:20191125T203000Z
DTEND:20191129T213000Z
END:VEVENT
END:VCALENDAR
