BEGIN:VCALENDAR
VERSION:2.0
PRODID:SchoolNow
CALSCALE:GREGORIAN
BEGIN:VEVENT
UID:08fb9c38-25cf-11ea-bb15-22000a97d21c
DTSTAMP:20200508T003244Z
SUMMARY:Private Rental
LOCATION:Activities Center
URL;VALUE=URI:https://www.wildernesslakecdd.org/calendar/2165667/private-re
 ntal
DTSTART:20191114T190000Z
DTEND:20191115T000000Z
END:VEVENT
END:VCALENDAR
