BEGIN:VCALENDAR
VERSION:2.0
PRODID:SchoolNow
CALSCALE:GREGORIAN
BEGIN:VEVENT
UID:08fb8298-25cf-11ea-8d1a-22000a97d21c
DTSTAMP:20200508T003244Z
SUMMARY:Peanut Butter Solutions
URL;VALUE=URI:https://www.wildernesslakecdd.org/calendar/2165666/peanut-but
 ter-solutions
DTSTART:20191115T190000Z
DTEND:20191116T000000Z
END:VEVENT
END:VCALENDAR
