BEGIN:VCALENDAR
VERSION:2.0
PRODID:SchoolNow
CALSCALE:GREGORIAN
BEGIN:VEVENT
UID:08fb55ca-25cf-11ea-8662-22000a97d21c
DTSTAMP:20200508T003244Z
SUMMARY:Private Rental
LOCATION:Nature Center
URL;VALUE=URI:https://www.wildernesslakecdd.org/calendar/2165664/private-re
 ntal
DTSTART:20191124T180000Z
DTEND:20191124T230000Z
END:VEVENT
END:VCALENDAR
