BEGIN:VCALENDAR
VERSION:2.0
PRODID:SchoolNow
CALSCALE:GREGORIAN
BEGIN:VEVENT
UID:08fa0120-25cf-11ea-b560-22000a97d21c
DTSTAMP:20200508T003244Z
SUMMARY:Turkey Trot
LOCATION:Ranger Station
URL;VALUE=URI:https://www.wildernesslakecdd.org/calendar/2165663/turkey-tro
 t
DTSTART:20191128T130000Z
DTEND:20191128T140000Z
END:VEVENT
END:VCALENDAR
