BEGIN:VCALENDAR
VERSION:2.0
PRODID:SchoolNow
CALSCALE:GREGORIAN
BEGIN:VEVENT
UID:08f9ea46-25cf-11ea-98ab-22000a97d21c
DTSTAMP:20200508T003244Z
SUMMARY:Lodge Hours
URL;VALUE=URI:https://www.wildernesslakecdd.org/calendar/2165662/lodge-hour
 s
DTSTART:20191129T170000Z
DTEND:20191130T020000Z
END:VEVENT
END:VCALENDAR
