BEGIN:VCALENDAR
VERSION:2.0
PRODID:SchoolNow
CALSCALE:GREGORIAN
BEGIN:VEVENT
UID:08f9d3ee-25cf-11ea-9bd4-22000a97d21c
DTSTAMP:20200508T003244Z
SUMMARY:Private Rental
LOCATION:Activities Center
URL;VALUE=URI:https://www.wildernesslakecdd.org/calendar/2165661/private-re
 ntal
DTSTART:20191130T163000Z
DTEND:20191130T213000Z
END:VEVENT
END:VCALENDAR
