BEGIN:VCALENDAR
VERSION:2.0
PRODID:SchoolNow
CALSCALE:GREGORIAN
BEGIN:VEVENT
UID:08f9bdaa-25cf-11ea-8e3c-22000a97d21c
DTSTAMP:20200508T003244Z
SUMMARY:Private Rental
LOCATION:Activities Center
URL;VALUE=URI:https://www.wildernesslakecdd.org/calendar/2165660/private-re
 ntal
DTSTART:20191201T200000Z
DTEND:20191202T010000Z
END:VEVENT
END:VCALENDAR
