BEGIN:VCALENDAR
VERSION:2.0
PRODID:SchoolNow
CALSCALE:GREGORIAN
BEGIN:VEVENT
UID:08f98a06-25cf-11ea-b300-22000a97d21c
DTSTAMP:20200508T003243Z
SUMMARY:ARC Meeting
LOCATION:Main Lodge
URL;VALUE=URI:https://www.wildernesslakecdd.org/calendar/2165658/arc-meetin
 g
DTSTART:20191202T233000Z
DTEND:20191203T003000Z
END:VEVENT
END:VCALENDAR
