BEGIN:VCALENDAR
VERSION:2.0
PRODID:SchoolNow
CALSCALE:GREGORIAN
BEGIN:VEVENT
UID:08f973ea-25cf-11ea-9cb6-22000a97d21c
DTSTAMP:20200508T003243Z
SUMMARY:HOA Meeting
LOCATION:Activities Center
URL;VALUE=URI:https://www.wildernesslakecdd.org/calendar/2165657/hoa-meetin
 g
DTSTART:20191203T233000Z
DTEND:20191204T013000Z
END:VEVENT
END:VCALENDAR
