BEGIN:VCALENDAR
VERSION:2.0
PRODID:SchoolNow
CALSCALE:GREGORIAN
BEGIN:VEVENT
UID:08f95dc4-25cf-11ea-95fe-22000a97d21c
DTSTAMP:20200508T003243Z
SUMMARY:ARC Meeting
URL;VALUE=URI:https://www.wildernesslakecdd.org/calendar/2165656/arc-meetin
 g
DTSTART:20191216T233000Z
DTEND:20191217T003000Z
END:VEVENT
END:VCALENDAR
