BEGIN:VCALENDAR
VERSION:2.0
PRODID:SchoolNow
CALSCALE:GREGORIAN
BEGIN:VEVENT
UID:08f9467c-25cf-11ea-95c7-22000a97d21c
DTSTAMP:20200508T003243Z
SUMMARY:Private Event
LOCATION:Activities Center
URL;VALUE=URI:https://www.wildernesslakecdd.org/calendar/2165655/private-ev
 ent
DTSTART:20191228T170000Z
DTEND:20191228T220000Z
END:VEVENT
END:VCALENDAR
