BEGIN:VCALENDAR
VERSION:2.0
PRODID:SchoolNow
CALSCALE:GREGORIAN
BEGIN:VEVENT
UID:08f9302e-25cf-11ea-9287-22000a97d21c
DTSTAMP:20200508T003243Z
SUMMARY:ARC Meeting
LOCATION:Main Lodge
URL;VALUE=URI:https://www.wildernesslakecdd.org/calendar/2165654/arc-meetin
 g
DTSTART:20191230T233000Z
DTEND:20191231T003000Z
END:VEVENT
END:VCALENDAR
