BEGIN:VCALENDAR
VERSION:2.0
PRODID:SchoolNow
CALSCALE:GREGORIAN
BEGIN:VEVENT
UID:08f9183c-25cf-11ea-9f47-22000a97d21c
DTSTAMP:20200508T003243Z
SUMMARY:Private Rental
LOCATION:Activities Center
URL;VALUE=URI:https://www.wildernesslakecdd.org/calendar/2165653/private-re
 ntal
DTSTART:20200105T170000Z
DTEND:20200105T220000Z
END:VEVENT
END:VCALENDAR
