BEGIN:VCALENDAR
VERSION:2.0
PRODID:SchoolNow
CALSCALE:GREGORIAN
BEGIN:VEVENT
UID:08f901e4-25cf-11ea-97e3-22000a97d21c
DTSTAMP:20200508T003243Z
SUMMARY:Private Rental
LOCATION:Activities Center
URL;VALUE=URI:https://www.wildernesslakecdd.org/calendar/2165652/private-re
 ntal
DTSTART:20200111T220000Z
DTEND:20200112T030000Z
END:VEVENT
END:VCALENDAR
