BEGIN:VCALENDAR
VERSION:2.0
PRODID:SchoolNow
CALSCALE:GREGORIAN
BEGIN:VEVENT
UID:08f8eb50-25cf-11ea-8108-22000a97d21c
DTSTAMP:20200508T003243Z
SUMMARY:Private Rental
LOCATION:Activities Center
URL;VALUE=URI:https://www.wildernesslakecdd.org/calendar/2165651/private-re
 ntal
DTSTART:20200124T200000Z
DTEND:20200125T020000Z
END:VEVENT
END:VCALENDAR
