BEGIN:VCALENDAR
VERSION:2.0
PRODID:SchoolNow
CALSCALE:GREGORIAN
BEGIN:VEVENT
UID:08f8cf8a-25cf-11ea-b801-22000a97d21c
DTSTAMP:20200508T003243Z
SUMMARY:Private Rental
LOCATION:Activities Center
URL;VALUE=URI:https://www.wildernesslakecdd.org/calendar/2165650/private-re
 ntal
DTSTART:20200125T180000Z
DTEND:20200125T230000Z
END:VEVENT
END:VCALENDAR
