BEGIN:VCALENDAR
VERSION:2.0
PRODID:SchoolNow
CALSCALE:GREGORIAN
BEGIN:VEVENT
UID:08f77a5e-25cf-11ea-97ad-22000a97d21c
DTSTAMP:20200508T003243Z
SUMMARY:Private Rental
LOCATION:Activities Center
URL;VALUE=URI:https://www.wildernesslakecdd.org/calendar/2165649/private-re
 ntal
DTSTART:20200201T220000Z
DTEND:20200202T030000Z
END:VEVENT
END:VCALENDAR
