BEGIN:VCALENDAR
VERSION:2.0
PRODID:SchoolNow
CALSCALE:GREGORIAN
BEGIN:VEVENT
UID:08f76442-25cf-11ea-a5c1-22000a97d21c
DTSTAMP:20200508T003243Z
SUMMARY:Private Rental
LOCATION:Activities Center
URL;VALUE=URI:https://www.wildernesslakecdd.org/calendar/2165648/private-re
 ntal
DTSTART:20200202T180000Z
DTEND:20200202T230000Z
END:VEVENT
END:VCALENDAR
