BEGIN:VCALENDAR
VERSION:2.0
PRODID:SchoolNow
CALSCALE:GREGORIAN
BEGIN:VEVENT
UID:08f74afc-25cf-11ea-a2f2-22000a97d21c
DTSTAMP:20200508T003243Z
SUMMARY:Private Rental
LOCATION:Activities Center
URL;VALUE=URI:https://www.wildernesslakecdd.org/calendar/2165647/private-re
 ntal
DTSTART:20200207T210000Z
DTEND:20200208T020000Z
END:VEVENT
END:VCALENDAR
