BEGIN:VCALENDAR
VERSION:2.0
PRODID:SchoolNow
CALSCALE:GREGORIAN
BEGIN:VEVENT
UID:08f6ee04-25cf-11ea-aea2-22000a97d21c
DTSTAMP:20200508T003243Z
SUMMARY:Gingerbread House and Holiday Workshop
LOCATION:Activities Center
URL;VALUE=URI:https://www.wildernesslakecdd.org/calendar/2165643/gingerbrea
 d-house-and-holiday-workshop
DTSTART:20191214T000000Z
DTEND:20191214T013000Z
END:VEVENT
END:VCALENDAR
