BEGIN:VCALENDAR
VERSION:2.0
PRODID:SchoolNow
CALSCALE:GREGORIAN
BEGIN:VEVENT
UID:08f6d37e-25cf-11ea-b063-22000a97d21c
DTSTAMP:20200508T003243Z
SUMMARY:Tree Lighting
LOCATION:Lodge
URL;VALUE=URI:https://www.wildernesslakecdd.org/calendar/2165642/tree-light
 ing
DTSTART:20191207T230000Z
DTEND:20191208T010000Z
END:VEVENT
END:VCALENDAR
