BEGIN:VCALENDAR
VERSION:2.0
PRODID:SchoolNow
CALSCALE:GREGORIAN
BEGIN:VEVENT
UID:08f6bd58-25cf-11ea-a4c5-22000a97d21c
DTSTAMP:20200508T003243Z
SUMMARY:Jingle Jog
URL;VALUE=URI:https://www.wildernesslakecdd.org/calendar/2165641/jingle-jog
DTSTART:20191228T130000Z
DTEND:20191228T140000Z
END:VEVENT
END:VCALENDAR
