BEGIN:VCALENDAR
VERSION:2.0
PRODID:SchoolNow
CALSCALE:GREGORIAN
BEGIN:VEVENT
UID:08f6a3f4-25cf-11ea-9ad5-22000a97d21c
DTSTAMP:20200508T003243Z
SUMMARY:Valentine's Extravaganza
URL;VALUE=URI:https://www.wildernesslakecdd.org/calendar/2165640/valentines
 -extravaganza
DTSTART:20200215T233000Z
DTEND:20200216T013000Z
END:VEVENT
END:VCALENDAR
