BEGIN:VCALENDAR
VERSION:2.0
PRODID:SchoolNow
CALSCALE:GREGORIAN
BEGIN:VEVENT
UID:08f68d92-25cf-11ea-b83d-22000a97d21c
DTSTAMP:20200508T003242Z
SUMMARY:Cookie Decorating
URL;VALUE=URI:https://www.wildernesslakecdd.org/calendar/2165639/cookie-dec
 orating
DTSTART:20200317T170000Z
DTEND:20200317T180000Z
END:VEVENT
END:VCALENDAR
