BEGIN:VCALENDAR
VERSION:2.0
PRODID:SchoolNow
CALSCALE:GREGORIAN
BEGIN:VEVENT
UID:08f674ce-25cf-11ea-9d89-22000a97d21c
DTSTAMP:20200508T003242Z
SUMMARY:Movie Day
URL;VALUE=URI:https://www.wildernesslakecdd.org/calendar/2165638/movie-day
DTSTART:20200318T170000Z
DTEND:20200318T190000Z
END:VEVENT
END:VCALENDAR
