BEGIN:VCALENDAR
VERSION:2.0
PRODID:SchoolNow
CALSCALE:GREGORIAN
BEGIN:VEVENT
UID:08f65dae-25cf-11ea-9a97-22000a97d21c
DTSTAMP:20200508T003242Z
SUMMARY:Garden and Pizza Day
URL;VALUE=URI:https://www.wildernesslakecdd.org/calendar/2165637/garden-and
 -pizza-day
DTSTART:20200319T170000Z
DTEND:20200319T180000Z
END:VEVENT
END:VCALENDAR
