BEGIN:VCALENDAR
VERSION:2.0
PRODID:SchoolNow
CALSCALE:GREGORIAN
BEGIN:VEVENT
UID:08f643d2-25cf-11ea-90c6-22000a97d21c
DTSTAMP:20200508T003242Z
SUMMARY:Frosty Friday
URL;VALUE=URI:https://www.wildernesslakecdd.org/calendar/2165636/frosty-fri
 day
DTSTART:20200320T170000Z
DTEND:20200320T180000Z
END:VEVENT
END:VCALENDAR
