BEGIN:VCALENDAR
VERSION:2.0
PRODID:SchoolNow
CALSCALE:GREGORIAN
BEGIN:VEVENT
UID:08f62d84-25cf-11ea-8342-22000a97d21c
DTSTAMP:20200508T003242Z
SUMMARY:Spring Break
URL;VALUE=URI:https://www.wildernesslakecdd.org/calendar/2165635/spring-bre
 ak
DTSTART;VALUE=DATE:20200314
DTEND;VALUE=DATE:20200324
END:VEVENT
END:VCALENDAR
