BEGIN:VCALENDAR
VERSION:2.0
PRODID:SchoolNow
CALSCALE:GREGORIAN
BEGIN:VEVENT
UID:08f614c0-25cf-11ea-bff3-22000a97d21c
DTSTAMP:20200508T003242Z
SUMMARY:Spring Garage Sale
URL;VALUE=URI:https://www.wildernesslakecdd.org/calendar/2165634/spring-gar
 age-sale
DTSTART:20200404T120000Z
DTEND:20200404T190000Z
END:VEVENT
END:VCALENDAR
