BEGIN:VCALENDAR
VERSION:2.0
PRODID:SchoolNow
CALSCALE:GREGORIAN
BEGIN:VEVENT
UID:08f5fe36-25cf-11ea-8b33-22000a97d21c
DTSTAMP:20200508T003242Z
SUMMARY:Spring Picnic and Egg Hunt
URL;VALUE=URI:https://www.wildernesslakecdd.org/calendar/2165633/spring-pic
 nic-and-egg-hunt
DTSTART:20200411T160000Z
DTEND:20200411T190000Z
END:VEVENT
END:VCALENDAR
