BEGIN:VCALENDAR
VERSION:2.0
PRODID:SchoolNow
CALSCALE:GREGORIAN
BEGIN:VEVENT
UID:08f5e7d4-25cf-11ea-b0e7-22000a97d21c
DTSTAMP:20200508T003242Z
SUMMARY:Earth Day
URL;VALUE=URI:https://www.wildernesslakecdd.org/calendar/2165632/earth-day
DTSTART;VALUE=DATE:20200418
DTEND;VALUE=DATE:20200419
END:VEVENT
END:VCALENDAR
