BEGIN:VCALENDAR
VERSION:2.0
PRODID:SchoolNow
CALSCALE:GREGORIAN
BEGIN:VEVENT
UID:08f5d0b4-25cf-11ea-987a-22000a97d21c
DTSTAMP:20200508T003242Z
SUMMARY:Lodge Closed
URL;VALUE=URI:https://www.wildernesslakecdd.org/calendar/2165631/lodge-clos
 ed
DTSTART;VALUE=DATE:20200412
DTEND;VALUE=DATE:20200413
END:VEVENT
END:VCALENDAR
