BEGIN:VCALENDAR
VERSION:2.0
PRODID:SchoolNow
CALSCALE:GREGORIAN
BEGIN:VEVENT
UID:08f5b912-25cf-11ea-a582-22000a97d21c
DTSTAMP:20200508T003242Z
SUMMARY:Cinco de Mayo
URL;VALUE=URI:https://www.wildernesslakecdd.org/calendar/2165630/cinco-de-m
 ayo
DTSTART:20200502T223000Z
DTEND:20200503T003000Z
END:VEVENT
END:VCALENDAR
