BEGIN:VCALENDAR
VERSION:2.0
PRODID:SchoolNow
CALSCALE:GREGORIAN
BEGIN:VEVENT
UID:08f3bf54-25cf-11ea-a7dd-22000a97d21c
DTSTAMP:20200515T013308Z
SUMMARY:Memorial Day BBQ - Cancelled
URL;VALUE=URI:https://www.wildernesslakecdd.org/calendar/2165629/memorial-d
 ay-bbq
DTSTART:20200525T170000Z
DTEND:20200525T190000Z
END:VEVENT
END:VCALENDAR
