BEGIN:VCALENDAR
VERSION:2.0
PRODID:SchoolNow
CALSCALE:GREGORIAN
BEGIN:VEVENT
UID:08f38cb4-25cf-11ea-9e01-22000a97d21c
DTSTAMP:20200508T003242Z
SUMMARY:Frosty Friday
URL;VALUE=URI:https://www.wildernesslakecdd.org/calendar/2165627/frosty-fri
 day
DTSTART:20200612T170000Z
DTEND:20200612T180000Z
END:VEVENT
END:VCALENDAR
