BEGIN:VCALENDAR
VERSION:2.0
PRODID:SchoolNow
CALSCALE:GREGORIAN
BEGIN:VEVENT
UID:08f32df0-25cf-11ea-a707-22000a97d21c
DTSTAMP:20200508T003242Z
SUMMARY:Lodge Hours 12pm-6pm
URL;VALUE=URI:https://www.wildernesslakecdd.org/calendar/2165624/lodge-hour
 s-12pm-6pm
DTSTART:20200704T160000Z
DTEND:20200704T220000Z
END:VEVENT
END:VCALENDAR
