BEGIN:VCALENDAR
VERSION:2.0
PRODID:SchoolNow
CALSCALE:GREGORIAN
BEGIN:VEVENT
UID:08f301a4-25cf-11ea-8512-22000a97d21c
DTSTAMP:20200711T160814Z
SUMMARY:Christmas in July Craft Fair - Canceled
URL;VALUE=URI:https://www.wildernesslakecdd.org/calendar/2165622/christmas-
 in-july-craft-fair
DTSTART:20200725T140000Z
DTEND:20200725T190000Z
END:VEVENT
END:VCALENDAR
