BEGIN:VCALENDAR
VERSION:2.0
PRODID:SchoolNow
CALSCALE:GREGORIAN
BEGIN:VEVENT
UID:08f2eb6a-25cf-11ea-a11d-22000a97d21c
DTSTAMP:20200508T003242Z
SUMMARY:Friday Night Lights
LOCATION:POOL
URL;VALUE=URI:https://www.wildernesslakecdd.org/calendar/2165621/friday-nig
 ht-lights
DTSTART:20200717T220000Z
DTEND:20200717T233000Z
END:VEVENT
END:VCALENDAR
