BEGIN:VCALENDAR
VERSION:2.0
PRODID:SchoolNow
CALSCALE:GREGORIAN
BEGIN:VEVENT
UID:08f2d526-25cf-11ea-b89f-22000a97d21c
DTSTAMP:20200508T003242Z
SUMMARY:Smores Under The Stars
LOCATION:N/C Classroom
URL;VALUE=URI:https://www.wildernesslakecdd.org/calendar/2165620/smores-und
 er-the-stars
DTSTART:20200808T220000Z
DTEND:20200808T233000Z
END:VEVENT
END:VCALENDAR
