BEGIN:VCALENDAR
VERSION:2.0
PRODID:SchoolNow
CALSCALE:GREGORIAN
BEGIN:VEVENT
UID:08f2bbae-25cf-11ea-943c-22000a97d21c
DTSTAMP:20200508T003241Z
SUMMARY:Back to School Bingo
URL;VALUE=URI:https://www.wildernesslakecdd.org/calendar/2165619/back-to-sc
 hool-bingo
DTSTART:20200807T223000Z
DTEND:20200808T003000Z
END:VEVENT
END:VCALENDAR
